BEGIN:VCALENDAR
VERSION:2.0
PRODID:-//Skol Boullou - Trédrez Locquémeau - ECPv6.15.20//NONSGML v1.0//EN
CALSCALE:GREGORIAN
METHOD:PUBLISH
X-WR-CALNAME:Skol Boullou - Trédrez Locquémeau
X-ORIGINAL-URL:https://blog-skol-boullou.tredrez-locquemeau.net
X-WR-CALDESC:Évènements pour Skol Boullou - Trédrez Locquémeau
REFRESH-INTERVAL;VALUE=DURATION:PT1H
X-Robots-Tag:noindex
X-PUBLISHED-TTL:PT1H
BEGIN:VTIMEZONE
TZID:Europe/Helsinki
BEGIN:DAYLIGHT
TZOFFSETFROM:+0200
TZOFFSETTO:+0300
TZNAME:EEST
DTSTART:20220327T010000
END:DAYLIGHT
BEGIN:STANDARD
TZOFFSETFROM:+0300
TZOFFSETTO:+0200
TZNAME:EET
DTSTART:20221030T010000
END:STANDARD
BEGIN:DAYLIGHT
TZOFFSETFROM:+0200
TZOFFSETTO:+0300
TZNAME:EEST
DTSTART:20230326T010000
END:DAYLIGHT
BEGIN:STANDARD
TZOFFSETFROM:+0300
TZOFFSETTO:+0200
TZNAME:EET
DTSTART:20231029T010000
END:STANDARD
BEGIN:DAYLIGHT
TZOFFSETFROM:+0200
TZOFFSETTO:+0300
TZNAME:EEST
DTSTART:20240331T010000
END:DAYLIGHT
BEGIN:STANDARD
TZOFFSETFROM:+0300
TZOFFSETTO:+0200
TZNAME:EET
DTSTART:20241027T010000
END:STANDARD
END:VTIMEZONE
BEGIN:VEVENT
DTSTART;VALUE=DATE:20230813
DTEND;VALUE=DATE:20230816
DTSTAMP:20260423T074250
CREATED:20230225T231750Z
LAST-MODIFIED:20230225T231815Z
UID:147-1691884800-1692143999@blog-skol-boullou.tredrez-locquemeau.net
SUMMARY:Concours du 15 Aout
DESCRIPTION:dimanche 13 Août\n\nmatin pen eus pen feminin (trois parties)\naprès midi : triplette mixte (éliminatoire)\n\n\nmardi 15 Août\n\nmatin pen eus pen (éliminatoire)\naprès midi doublette deux boules
URL:https://blog-skol-boullou.tredrez-locquemeau.net/event/concours-du-15-aout/
LOCATION:Parking Vorlen\, Ecole de voile\, Tredrez-Locquémeau\, France
END:VEVENT
END:VCALENDAR